BEGIN:VCALENDAR
METHOD:PUBLISH
VERSION:2.0
PRODID:-//WoltLab GmbH//WoltLab Suite Calendar 5.4//EN
CALSCALE:GREGORIAN
X-WR-CALNAME;VALUE=TEXT:Quizfrage der 17. Woche
BEGIN:VEVENT
TRANSP:OPAQUE
UID:event-449@www.hp-fc.de
URL:https://www.hp-fc.de/kalender/event/11169-quizfrage-der-17-woche/
DTSTART:20260424T181400Z
DTSTAMP:20260424T181400Z
CREATED:20260424T181400Z
SUMMARY:Quizfrage der 17. Woche
DESCRIPTION:Liebe Rätselfreunde!\n\nDie Quizfrage der 17. Woche [URL:https:
 //www.hp-fc.de/forum/thread/50082-quizfrage-der-17-woche/?postID=2754249#po
 st2754249] ist online!\n\nIhr habt ab jetzt 48h Zeit (bis 26.04.26 um 20:14
  Uhr)\, um diese zu beantworten.\n\nViel Erfolg beim Finden der richtigen L
 ösung!\n\nEuer Wettbewerbskomitee
DTEND:20260426T181400Z
CATEGORIES:1. Frage
END:VEVENT
END:VCALENDAR
