BEGIN:VCALENDAR
METHOD:PUBLISH
VERSION:2.0
PRODID:-//WoltLab GmbH//WoltLab Suite Calendar 5.4//EN
CALSCALE:GREGORIAN
X-WR-CALNAME;VALUE=TEXT:Quidditch-Spezialtraining
BEGIN:VEVENT
TRANSP:OPAQUE
UID:event-448@www.hp-fc.de
URL:https://www.hp-fc.de/kalender/event/11168-quidditch-spezialtraining/
DTSTART:20260426T180000Z
DTSTAMP:20260426T180000Z
CREATED:20260426T180000Z
SUMMARY:Quidditch-Spezialtraining
DESCRIPTION:Quidditch-Spezialtraining für Hüter!\n\nHeute Sonntag\, 26.4. a
 b 20 Uhr findet das Quidditch-Spezialtraining im Raum Quidditchstadion im C
 hat [URL:https://www.hp-fc.de/chat/] statt.\n\nBeim heutigen Spezialtrainin
 g werden wir die Position des Hüters genauer unter die Lupe nehmen. Die Reg
 eln sind im Quidditchforum oder in komprimierter Form direkt im Quidditch-S
 pezial-Trainings-Thread [URL:https://www.hp-fc.de/forum/thread/47796-quiddi
 tch-spezial-training/] zu finden.\n\nIch freu mich auf euch!\n\nLieben Grus
 s\,\nnela
DTEND:20260426T200000Z
CATEGORIES:Quidditch,Spezialtraining
END:VEVENT
END:VCALENDAR
