BEGIN:VCALENDAR
METHOD:PUBLISH
VERSION:2.0
PRODID:-//WoltLab GmbH//WoltLab Suite Calendar 5.4//EN
CALSCALE:GREGORIAN
X-WR-CALNAME;VALUE=TEXT:Hausoffenes Quidditch-Training
BEGIN:VEVENT
TRANSP:OPAQUE
UID:event-439@www.hp-fc.de
URL:https://www.hp-fc.de/kalender/event/11138-hausoffenes-quidditch-trainin
 g/
DTSTART:20260306T190000Z
DTSTAMP:20260306T190000Z
CREATED:20260306T190000Z
SUMMARY:Hausoffenes Quidditch-Training
DESCRIPTION:Im Raum \"Quidditch-Stadion\" in unserem Chat [URL:https://www.
 hp-fc.de/chat/] findet ein häuseroffenes Quidditchtraining statt. Das bedeu
 tet\, unabhängig von deinem Haus darfst du am Training teilnehmen!\n\nDu so
 lltest die Quidditchregeln aber bereits ein wenig kennen – falls du ganz ne
 u bei Chat-Quidditch bist\, dann wende dich am besten an dein Haus oder sie
 h mal beim Schnuppertraining [URL:https://www.hp-fc.de/forum/thread/45311-q
 uidditch-schnupper-training/] rein.\n\nEine kurze Trainingszusammenfassung 
 gibt es im Anschluss hier im Kommentarbereich.
DTEND:20260306T200000Z
RRULE:FREQ=WEEKLY;INTERVAL=1;BYDAY=FR;WKST=MO;UNTIL=20260731
CATEGORIES:Quidditch
END:VEVENT
END:VCALENDAR
